BEGIN:VCALENDAR
VERSION:2.0
PRODID:-//eventon.com NONSGML v1.0//EN
CALSCALE:GREGORIAN
METHOD:PUBLISH
BEGIN:VEVENT
UID:69e750fe966f6
DTSTAMP:20260421T102710Z
DTSTART:20250930T000000Z
DTEND:20250930T020000Z
LOCATION:
SUMMARY:VPPR's Fireside Chat: September 2025          Design in Harmony | Canva Basics 101
DESCRIPTION:Register now: The September VPPRs Fireside Chat is all about Ca
 nva and Design Essentials! **Learn how to use Canva effectively (free &amp;
  pro versions) **Explore Toastmasters Brand resources and how to apply them
  **Practice designing eye-catching posters\,  flyers\,  and social media gr
 aphics **Walk away with ready-to-use templates for your PR[..]\nhttps://toa
 stmastershouston.com/events/vpprs-fireside-chat-september-2025-design-in-ha
 rmony-canva-basics-101/
URL:https://toastmastershouston.com/events/vpprs-fireside-chat-september-2025-design-in-harmony-canva-basics-101/
END:VEVENT
END:VCALENDAR