BEGIN:VCALENDAR
VERSION:2.0
PRODID:-//eventon.com NONSGML v1.0//EN
CALSCALE:GREGORIAN
METHOD:PUBLISH
BEGIN:VEVENT
UID:69e74b2eca644
DTSTAMP:20260421T100222Z
DTSTART:20211231
DTEND:20220101
LOCATION:
SUMMARY:DUE: Semi-Annual Club Officer List
DESCRIPTION:Annual office terms must run from July 1 through June 30; semia
 nnual terms must run from July 1 through December 31 and January 1 through 
 June 30.  Clubs that meet weekly may elect officers annually or semiannual
 ly.  Clubs that meet less frequently than weekly must elect officers annua
 lly\,  with the[..]\nhttps://toastmastershouston.com/events/due-semi-annual
 -club-officer-list/
URL:https://toastmastershouston.com/events/due-semi-annual-club-officer-list/
END:VEVENT
END:VCALENDAR